BEGIN:VCALENDAR
VERSION:2.0
PRODID:-//The Continuing Legal Education Society of British Columbia - ECPv6.15.20//NONSGML v1.0//EN
CALSCALE:GREGORIAN
METHOD:PUBLISH
X-WR-CALNAME:The Continuing Legal Education Society of British Columbia
X-ORIGINAL-URL:https://www.cle.bc.ca
X-WR-CALDESC:Events for The Continuing Legal Education Society of British Columbia
REFRESH-INTERVAL;VALUE=DURATION:PT1H
X-Robots-Tag:noindex
X-PUBLISHED-TTL:PT1H
BEGIN:VTIMEZONE
TZID:America/Denver
BEGIN:DAYLIGHT
TZOFFSETFROM:-0700
TZOFFSETTO:-0600
TZNAME:MDT
DTSTART:20250309T090000
END:DAYLIGHT
BEGIN:STANDARD
TZOFFSETFROM:-0600
TZOFFSETTO:-0700
TZNAME:MST
DTSTART:20251102T080000
END:STANDARD
BEGIN:DAYLIGHT
TZOFFSETFROM:-0700
TZOFFSETTO:-0600
TZNAME:MDT
DTSTART:20260308T090000
END:DAYLIGHT
BEGIN:STANDARD
TZOFFSETFROM:-0600
TZOFFSETTO:-0700
TZNAME:MST
DTSTART:20261101T080000
END:STANDARD
BEGIN:DAYLIGHT
TZOFFSETFROM:-0700
TZOFFSETTO:-0600
TZNAME:MDT
DTSTART:20270314T090000
END:DAYLIGHT
BEGIN:STANDARD
TZOFFSETFROM:-0600
TZOFFSETTO:-0700
TZNAME:MST
DTSTART:20271107T080000
END:STANDARD
BEGIN:DAYLIGHT
TZOFFSETFROM:-0700
TZOFFSETTO:-0600
TZNAME:MDT
DTSTART:20280312T090000
END:DAYLIGHT
BEGIN:STANDARD
TZOFFSETFROM:-0600
TZOFFSETTO:-0700
TZNAME:MST
DTSTART:20281105T080000
END:STANDARD
END:VTIMEZONE
BEGIN:VEVENT
DTSTART;VALUE=DATE:20260507
DTEND;VALUE=DATE:20260509
DTSTAMP:20260420T071438
CREATED:20250218T235304Z
LAST-MODIFIED:20250218T235304Z
UID:10001961-1778112000-1778284799@www.cle.bc.ca
SUMMARY:Family Violence Screening Training for Litigators and DR Professionals
DESCRIPTION:
URL:https://www.cle.bc.ca/course/family-violence-screening-training-for-litigators-and-dr-professionals-2026/
CATEGORIES:Dispute Resolution,Family Law
ATTACH;FMTTYPE=image/jpeg:https://clebc.wpenginepowered.com/wp-content/uploads/2025/02/2263-Family-Violence-Screening-Training-2025_200x200.jpg
END:VEVENT
BEGIN:VEVENT
DTSTART;VALUE=DATE:20260513
DTEND;VALUE=DATE:20260515
DTSTAMP:20260420T071438
CREATED:20251211T164634Z
LAST-MODIFIED:20251211T164634Z
UID:10002044-1778630400-1778803199@www.cle.bc.ca
SUMMARY:Intermediate Mediation (Part 1)
DESCRIPTION:
URL:https://www.cle.bc.ca/course/intermediate-mediation/
CATEGORIES:Dispute Resolution
ATTACH;FMTTYPE=image/jpeg:https://clebc.wpenginepowered.com/wp-content/uploads/2025/12/2339-Intermediate-Mediation-2026_200x200.jpg
END:VEVENT
BEGIN:VEVENT
DTSTART;VALUE=DATE:20260527
DTEND;VALUE=DATE:20260529
DTSTAMP:20260420T071438
CREATED:20251211T164851Z
LAST-MODIFIED:20251211T164851Z
UID:10002045-1779840000-1780012799@www.cle.bc.ca
SUMMARY:Intermediate Mediation (Part 2)
DESCRIPTION:
URL:https://www.cle.bc.ca/course/intermediate-mediation-2/
CATEGORIES:Dispute Resolution
ATTACH;FMTTYPE=image/jpeg:https://clebc.wpenginepowered.com/wp-content/uploads/2025/12/2339-Intermediate-Mediation-2026_200x200.jpg
END:VEVENT
BEGIN:VEVENT
DTSTART;VALUE=DATE:20260601
DTEND;VALUE=DATE:20260603
DTSTAMP:20260420T071438
CREATED:20260128T235409Z
LAST-MODIFIED:20260128T235817Z
UID:10002064-1780272000-1780444799@www.cle.bc.ca
SUMMARY:Med-Arb: Training for the DR Professional
DESCRIPTION:
URL:https://www.cle.bc.ca/course/med-arb-training-for-the-dr-professional/
CATEGORIES:Dispute Resolution,Family Law
ATTACH;FMTTYPE=image/jpeg:https://clebc.wpenginepowered.com/wp-content/uploads/2026/01/2356-Medarb-Training-2026_200x200.jpg
END:VEVENT
BEGIN:VEVENT
DTSTART;TZID=America/Denver:20260615T090000
DTEND;TZID=America/Denver:20260615T110000
DTSTAMP:20260420T071438
CREATED:20260306T195702Z
LAST-MODIFIED:20260306T195930Z
UID:10002074-1781514000-1781521200@www.cle.bc.ca
SUMMARY:Engaging Conflict in the Moment - Sharpen Your Skills
DESCRIPTION:
URL:https://www.cle.bc.ca/course/engaging-conflict-in-the-moment-sharpen-your-skills-2026/
CATEGORIES:Dispute Resolution
ATTACH;FMTTYPE=image/jpeg:https://clebc.wpenginepowered.com/wp-content/uploads/2026/03/2366-Engagin-Conflict-in-the-Moment-2026_200x200.jpg
END:VEVENT
BEGIN:VEVENT
DTSTART;VALUE=DATE:20260623
DTEND;VALUE=DATE:20260624
DTSTAMP:20260420T071438
CREATED:20260320T153928Z
LAST-MODIFIED:20260320T154237Z
UID:10002080-1782172800-1782259199@www.cle.bc.ca
SUMMARY:Definitely Not the Courtroom: Best Practices for Counsel in Mediation
DESCRIPTION:
URL:https://www.cle.bc.ca/course/definitely-not-the-courtroom-best-practices-for-counsel-in-mediation/
CATEGORIES:Dispute Resolution
ATTACH;FMTTYPE=image/jpeg:https://clebc.wpenginepowered.com/wp-content/uploads/2026/03/2373-Definitely-Not-the-Courtroom-2026_200x200.jpg
END:VEVENT
BEGIN:VEVENT
DTSTART;VALUE=DATE:20260713
DTEND;VALUE=DATE:20260718
DTSTAMP:20260420T071438
CREATED:20260331T201454Z
LAST-MODIFIED:20260331T201454Z
UID:10002083-1783900800-1784332799@www.cle.bc.ca
SUMMARY:Summer Series Rebroadcasts
DESCRIPTION:
URL:https://www.cle.bc.ca/course/summer-series-2026-july-13-17/
CATEGORIES:Business Law,Dispute Resolution,Family Law,Litigation,Other,Practice Management,Real Estate,Rebroadcast,Skills,Wills, Estates & Trusts
ATTACH;FMTTYPE=image/jpeg:https://clebc.wpenginepowered.com/wp-content/uploads/2026/03/summer-series-2026-200x200-1.jpg
END:VEVENT
BEGIN:VEVENT
DTSTART;VALUE=DATE:20260720
DTEND;VALUE=DATE:20260725
DTSTAMP:20260420T071438
CREATED:20260331T201708Z
LAST-MODIFIED:20260331T201708Z
UID:10002084-1784505600-1784937599@www.cle.bc.ca
SUMMARY:Summer Series Rebroadcasts
DESCRIPTION:
URL:https://www.cle.bc.ca/course/summer-series-2026-july-20-24/
CATEGORIES:Business Law,Dispute Resolution,Family Law,Litigation,Other,Practice Management,Real Estate,Rebroadcast,Skills,Wills, Estates & Trusts
ATTACH;FMTTYPE=image/jpeg:https://clebc.wpenginepowered.com/wp-content/uploads/2026/03/summer-series-2026-200x200-1.jpg
END:VEVENT
BEGIN:VEVENT
DTSTART;VALUE=DATE:20260924
DTEND;VALUE=DATE:20260926
DTSTAMP:20260420T071438
CREATED:20260115T191154Z
LAST-MODIFIED:20260115T191154Z
UID:10002054-1790208000-1790380799@www.cle.bc.ca
SUMMARY:Introduction to Family Dispute Resolution
DESCRIPTION:
URL:https://www.cle.bc.ca/course/introduction-to-family-dispute-resolution-2026/
CATEGORIES:Dispute Resolution,Family Law
ATTACH;FMTTYPE=image/jpeg:https://clebc.wpenginepowered.com/wp-content/uploads/2025/02/2258-Introduction-to-Family-Dispute-Resolution-2025_200x200.jpg
END:VEVENT
BEGIN:VEVENT
DTSTART;VALUE=DATE:20261022
DTEND;VALUE=DATE:20261024
DTSTAMP:20260420T071438
CREATED:20260115T195528Z
LAST-MODIFIED:20260115T195528Z
UID:10002056-1792627200-1792799999@www.cle.bc.ca
SUMMARY:Family Violence Screening Training for Litigators and DR Professionals
DESCRIPTION:
URL:https://www.cle.bc.ca/course/family-violence-screening-training-for-litigators-and-dr-professionals-2026-2/
CATEGORIES:Dispute Resolution,Family Law
ATTACH;FMTTYPE=image/jpeg:https://clebc.wpenginepowered.com/wp-content/uploads/2025/02/2263-Family-Violence-Screening-Training-2025_200x200.jpg
END:VEVENT
BEGIN:VEVENT
DTSTART;VALUE=DATE:20261104
DTEND;VALUE=DATE:20261107
DTSTAMP:20260420T071438
CREATED:20260115T190312Z
LAST-MODIFIED:20260115T190312Z
UID:10002053-1793750400-1794009599@www.cle.bc.ca
SUMMARY:Family Law Mediation Fundamentals
DESCRIPTION:
URL:https://www.cle.bc.ca/course/family-law-mediation-fundamentals-2026/
CATEGORIES:Dispute Resolution,Family Law
ATTACH;FMTTYPE=image/jpeg:https://clebc.wpenginepowered.com/wp-content/uploads/2024/09/2264-Family-Law-Mediation-Fundamentals-2025_200x200.jpg
END:VEVENT
BEGIN:VEVENT
DTSTART;VALUE=DATE:20270113
DTEND;VALUE=DATE:20270116
DTSTAMP:20260420T071438
CREATED:20260115T194107Z
LAST-MODIFIED:20260115T194107Z
UID:10002055-1799798400-1800057599@www.cle.bc.ca
SUMMARY:Intermediate Family Law Mediation
DESCRIPTION:
URL:https://www.cle.bc.ca/course/intermediate-family-law-mediation-2027/
CATEGORIES:Dispute Resolution,Family Law
ATTACH;FMTTYPE=image/jpeg:https://clebc.wpenginepowered.com/wp-content/uploads/2025/02/2260-Intermediate-Family-Mediation-2025_200x200.jpg
END:VEVENT
BEGIN:VEVENT
DTSTART;VALUE=DATE:20270415
DTEND;VALUE=DATE:20270417
DTSTAMP:20260420T071438
CREATED:20260115T200707Z
LAST-MODIFIED:20260115T200707Z
UID:10002057-1807747200-1807919999@www.cle.bc.ca
SUMMARY:Advanced Family Mediation - Dealing with Difficult Issues in Family Mediation
DESCRIPTION:
URL:https://www.cle.bc.ca/course/advanced-family-law-mediation-2027/
CATEGORIES:Dispute Resolution,Family Law
ATTACH;FMTTYPE=image/jpeg:https://clebc.wpenginepowered.com/wp-content/uploads/2025/02/2261-Advanced-Family-Mediation-2025_200x200.jpg
END:VEVENT
END:VCALENDAR