BEGIN:VCALENDAR
VERSION:2.0
PRODID:-//The Continuing Legal Education Society of British Columbia - ECPv6.15.20//NONSGML v1.0//EN
CALSCALE:GREGORIAN
METHOD:PUBLISH
X-WR-CALNAME:The Continuing Legal Education Society of British Columbia
X-ORIGINAL-URL:https://www.cle.bc.ca
X-WR-CALDESC:Events for The Continuing Legal Education Society of British Columbia
REFRESH-INTERVAL;VALUE=DURATION:PT1H
X-Robots-Tag:noindex
X-PUBLISHED-TTL:PT1H
BEGIN:VTIMEZONE
TZID:America/Denver
BEGIN:DAYLIGHT
TZOFFSETFROM:-0700
TZOFFSETTO:-0600
TZNAME:MDT
DTSTART:20240310T090000
END:DAYLIGHT
BEGIN:STANDARD
TZOFFSETFROM:-0600
TZOFFSETTO:-0700
TZNAME:MST
DTSTART:20241103T080000
END:STANDARD
BEGIN:DAYLIGHT
TZOFFSETFROM:-0700
TZOFFSETTO:-0600
TZNAME:MDT
DTSTART:20250309T090000
END:DAYLIGHT
BEGIN:STANDARD
TZOFFSETFROM:-0600
TZOFFSETTO:-0700
TZNAME:MST
DTSTART:20251102T080000
END:STANDARD
BEGIN:DAYLIGHT
TZOFFSETFROM:-0700
TZOFFSETTO:-0600
TZNAME:MDT
DTSTART:20260308T090000
END:DAYLIGHT
BEGIN:STANDARD
TZOFFSETFROM:-0600
TZOFFSETTO:-0700
TZNAME:MST
DTSTART:20261101T080000
END:STANDARD
END:VTIMEZONE
BEGIN:VTIMEZONE
TZID:America/Vancouver
BEGIN:DAYLIGHT
TZOFFSETFROM:-0800
TZOFFSETTO:-0700
TZNAME:PDT
DTSTART:20240310T100000
END:DAYLIGHT
BEGIN:STANDARD
TZOFFSETFROM:-0700
TZOFFSETTO:-0800
TZNAME:PST
DTSTART:20241103T090000
END:STANDARD
BEGIN:DAYLIGHT
TZOFFSETFROM:-0800
TZOFFSETTO:-0700
TZNAME:PDT
DTSTART:20250309T100000
END:DAYLIGHT
BEGIN:STANDARD
TZOFFSETFROM:-0700
TZOFFSETTO:-0800
TZNAME:PST
DTSTART:20251102T090000
END:STANDARD
BEGIN:DAYLIGHT
TZOFFSETFROM:-0800
TZOFFSETTO:-0700
TZNAME:PDT
DTSTART:20260308T100000
END:DAYLIGHT
BEGIN:STANDARD
TZOFFSETFROM:-0700
TZOFFSETTO:-0800
TZNAME:PST
DTSTART:20261101T090000
END:STANDARD
END:VTIMEZONE
BEGIN:VEVENT
DTSTART;VALUE=DATE:20250714
DTEND;VALUE=DATE:20250719
DTSTAMP:20260421T060657
CREATED:20250320T193052Z
LAST-MODIFIED:20250320T193052Z
UID:10001978-1752451200-1752883199@www.cle.bc.ca
SUMMARY:Summer Series Rebroadcasts
DESCRIPTION:
URL:https://www.cle.bc.ca/course/summer-series-2025-july-14-18/
CATEGORIES:Business Law,Dispute Resolution,Family Law,Litigation,Other,Practice Management,Real Estate,Rebroadcast,Skills,Wills, Estates & Trusts
ATTACH;FMTTYPE=image/jpeg:https://clebc.wpenginepowered.com/wp-content/uploads/2025/03/Summer-Series-2025_200x200.jpg
END:VEVENT
BEGIN:VEVENT
DTSTART;VALUE=DATE:20250721
DTEND;VALUE=DATE:20250726
DTSTAMP:20260421T060657
CREATED:20250320T193252Z
LAST-MODIFIED:20250320T193252Z
UID:10001979-1753056000-1753487999@www.cle.bc.ca
SUMMARY:Summer Series Rebroadcasts
DESCRIPTION:
URL:https://www.cle.bc.ca/course/summer-series-2025-july-21-25/
CATEGORIES:Business Law,Dispute Resolution,Family Law,Litigation,Other,Practice Management,Real Estate,Rebroadcast,Skills,Wills, Estates & Trusts
ATTACH;FMTTYPE=image/jpeg:https://clebc.wpenginepowered.com/wp-content/uploads/2025/03/Summer-Series-2025_200x200.jpg
END:VEVENT
BEGIN:VEVENT
DTSTART;VALUE=DATE:20250918
DTEND;VALUE=DATE:20250920
DTSTAMP:20260421T060657
CREATED:20250218T234506Z
LAST-MODIFIED:20250812T204002Z
UID:10001959-1758153600-1758326399@www.cle.bc.ca
SUMMARY:Introduction to Family Dispute Resolution (COURSE FULL)
DESCRIPTION:
URL:https://www.cle.bc.ca/course/introduction-to-family-dispute-resolution-2025/
CATEGORIES:Dispute Resolution,Family Law
ATTACH;FMTTYPE=image/jpeg:https://clebc.wpenginepowered.com/wp-content/uploads/2025/02/2258-Introduction-to-Family-Dispute-Resolution-2025_200x200.jpg
END:VEVENT
BEGIN:VEVENT
DTSTART;VALUE=DATE:20250925
DTEND;VALUE=DATE:20250926
DTSTAMP:20260421T060657
CREATED:20250403T191428Z
LAST-MODIFIED:20250425T224258Z
UID:10001984-1758758400-1758844799@www.cle.bc.ca
SUMMARY:Advanced Family Law for Paralegals
DESCRIPTION:
URL:https://www.cle.bc.ca/course/advanced-family-law-for-paralegals-2005/
CATEGORIES:Family Law
ATTACH;FMTTYPE=image/jpeg:https://clebc.wpenginepowered.com/wp-content/uploads/2025/04/2285-Advanced-Family-Law-for-Paralegals_200x200.jpg
END:VEVENT
BEGIN:VEVENT
DTSTART;VALUE=DATE:20250925
DTEND;VALUE=DATE:20250926
DTSTAMP:20260421T060657
CREATED:20250618T180253Z
LAST-MODIFIED:20250618T180809Z
UID:10002000-1758758400-1758844799@www.cle.bc.ca
SUMMARY:Small Firm Success: Strategy\, Systems and Sustainability
DESCRIPTION:
URL:https://www.cle.bc.ca/course/small-firm-success-2025-strategy-systems-and-sustainability/
CATEGORIES:Practice Management
ATTACH;FMTTYPE=image/jpeg:https://clebc.wpenginepowered.com/wp-content/uploads/2025/06/2230-Small-Firm-Success-2025_200x200.jpg
END:VEVENT
BEGIN:VEVENT
DTSTART;VALUE=DATE:20251003
DTEND;VALUE=DATE:20251004
DTSTAMP:20260421T060657
CREATED:20250625T154834Z
LAST-MODIFIED:20250625T154834Z
UID:10002009-1759449600-1759535999@www.cle.bc.ca
SUMMARY:Water Law: Collaborative Solutions within Multiple Legal Orders
DESCRIPTION:
URL:https://www.cle.bc.ca/course/water-law-collaborative-solutions-within-multiple-legal-orders/
CATEGORIES:Other
ATTACH;FMTTYPE=image/jpeg:https://clebc.wpenginepowered.com/wp-content/uploads/2025/06/2308-Water-Law-2025_200x200.jpg
END:VEVENT
BEGIN:VEVENT
DTSTART;VALUE=DATE:20251006
DTEND;VALUE=DATE:20251008
DTSTAMP:20260421T060657
CREATED:20250218T235058Z
LAST-MODIFIED:20250916T221348Z
UID:10001960-1759708800-1759881599@www.cle.bc.ca
SUMMARY:Family Violence Screening Training for Litigators and DR Professionals (COURSE FULL)
DESCRIPTION:
URL:https://www.cle.bc.ca/course/family-violence-screening-training-for-litigators-and-dr-professionals-2025-2/
CATEGORIES:Dispute Resolution,Family Law
ATTACH;FMTTYPE=image/jpeg:https://clebc.wpenginepowered.com/wp-content/uploads/2025/02/2263-Family-Violence-Screening-Training-2025_200x200.jpg
END:VEVENT
BEGIN:VEVENT
DTSTART;VALUE=DATE:20251007
DTEND;VALUE=DATE:20251008
DTSTAMP:20260421T060657
CREATED:20250528T192911Z
LAST-MODIFIED:20250528T192911Z
UID:10001994-1759795200-1759881599@www.cle.bc.ca
SUMMARY:Civil Litigation Basics for Paralegals and Legal Support Staff
DESCRIPTION:
URL:https://www.cle.bc.ca/course/civil-litigation-basics-for-paralegals-and-legal-support-staff/
CATEGORIES:Litigation
ATTACH;FMTTYPE=image/jpeg:https://clebc.wpenginepowered.com/wp-content/uploads/2025/05/2294-Civil-Litigation-Basics-2025_200x200.jpg
END:VEVENT
BEGIN:VEVENT
DTSTART;TZID=America/Vancouver:20251008T120000
DTEND;TZID=America/Vancouver:20251008T130000
DTSTAMP:20260421T060657
CREATED:20250609T220218Z
LAST-MODIFIED:20250609T220600Z
UID:10001999-1759924800-1759928400@www.cle.bc.ca
SUMMARY:Rebuilding Confidence After Setbacks (FREE WEBINAR)
DESCRIPTION:
URL:https://www.cle.bc.ca/course/rebuilding-confidence-after-setbacks/
CATEGORIES:Other
ATTACH;FMTTYPE=image/jpeg:https://clebc.wpenginepowered.com/wp-content/uploads/2025/06/2299-Rebuilding-Confidence_200x200.jpg
END:VEVENT
BEGIN:VEVENT
DTSTART;VALUE=DATE:20251009
DTEND;VALUE=DATE:20251010
DTSTAMP:20260421T060657
CREATED:20250609T211815Z
LAST-MODIFIED:20250609T211815Z
UID:10001998-1759968000-1760054399@www.cle.bc.ca
SUMMARY:Elder Law 2025
DESCRIPTION:
URL:https://www.cle.bc.ca/course/elder-law-2025/
CATEGORIES:Wills, Estates & Trusts
ATTACH;FMTTYPE=image/jpeg:https://clebc.wpenginepowered.com/wp-content/uploads/2025/06/2297-Elder-Law-Conference-2025_200x200.jpg
END:VEVENT
BEGIN:VEVENT
DTSTART;VALUE=DATE:20251015
DTEND;VALUE=DATE:20251016
DTSTAMP:20260421T060657
CREATED:20250707T175745Z
LAST-MODIFIED:20250929T203940Z
UID:10002013-1760486400-1760572799@www.cle.bc.ca
SUMMARY:The Powerful Performance: Effective Advocacy Skills for Lawyers (COURSE FULL)
DESCRIPTION:
URL:https://www.cle.bc.ca/course/the-powerful-performance-2025-2/
CATEGORIES:Litigation,Skills
ATTACH;FMTTYPE=image/jpeg:https://clebc.wpenginepowered.com/wp-content/uploads/2025/02/2249-Powerful-Performance-2025_200x200.jpg
END:VEVENT
BEGIN:VEVENT
DTSTART;VALUE=DATE:20251015
DTEND;VALUE=DATE:20251016
DTSTAMP:20260421T060658
CREATED:20250827T213843Z
LAST-MODIFIED:20250827T213945Z
UID:10002018-1760486400-1760572799@www.cle.bc.ca
SUMMARY:Aboriginal Title Litigation: Cowichan Tribes v. Canada (Attorney General) (IN-PERSON & WEBINAR)
DESCRIPTION:
URL:https://www.cle.bc.ca/course/aboriginal-title-litigation-cowichan-tribes-v-canada-attorney-general/
CATEGORIES:Other
ATTACH;FMTTYPE=image/jpeg:https://clebc.wpenginepowered.com/wp-content/uploads/2025/08/2316-Aboriginal-Title-Litigation_200x200.jpg
END:VEVENT
BEGIN:VEVENT
DTSTART;VALUE=DATE:20251017
DTEND;VALUE=DATE:20251018
DTSTAMP:20260421T060658
CREATED:20250707T231135Z
LAST-MODIFIED:20250707T231135Z
UID:10002015-1760659200-1760745599@www.cle.bc.ca
SUMMARY:The Power of Plain Language in Legal Drafting
DESCRIPTION:
URL:https://www.cle.bc.ca/course/the-power-of-plain-language-in-legal-drafting/
CATEGORIES:Skills
ATTACH;FMTTYPE=image/jpeg:https://clebc.wpenginepowered.com/wp-content/uploads/2025/07/2313-Power-of-Plain-Language-in-Legal-Drafting-2025_200x200.jpg
END:VEVENT
BEGIN:VEVENT
DTSTART;VALUE=DATE:20251020
DTEND;VALUE=DATE:20251021
DTSTAMP:20260421T060658
CREATED:20250624T195729Z
LAST-MODIFIED:20250908T190202Z
UID:10002006-1760918400-1761004799@www.cle.bc.ca
SUMMARY:Meetings\, Rules\, and Responsible Governance (COURSE FULL)
DESCRIPTION:
URL:https://www.cle.bc.ca/course/meetings-rules-and-responsible-governance/
CATEGORIES:Skills
ATTACH;FMTTYPE=image/jpeg:https://clebc.wpenginepowered.com/wp-content/uploads/2025/06/2306-Meetings-Rules-and-Responsible-Governance-2025_200x200.jpg
END:VEVENT
BEGIN:VEVENT
DTSTART;VALUE=DATE:20251022
DTEND;VALUE=DATE:20251023
DTSTAMP:20260421T060658
CREATED:20250218T212131Z
LAST-MODIFIED:20250218T212131Z
UID:10001956-1761091200-1761177599@www.cle.bc.ca
SUMMARY:Labour Relations 2025 (IN-PERSON & WEBINAR)
DESCRIPTION:
URL:https://www.cle.bc.ca/course/labour-relations-2025/
CATEGORIES:Other
ATTACH;FMTTYPE=image/jpeg:https://clebc.wpenginepowered.com/wp-content/uploads/2025/02/2254-Labour-Relations-2025_200x200.jpg
END:VEVENT
BEGIN:VEVENT
DTSTART;VALUE=DATE:20251023
DTEND;VALUE=DATE:20251024
DTSTAMP:20260421T060658
CREATED:20250422T183219Z
LAST-MODIFIED:20250422T183219Z
UID:10001986-1761177600-1761263999@www.cle.bc.ca
SUMMARY:Working Your Way Into Canada
DESCRIPTION:
URL:https://www.cle.bc.ca/course/working-your-way-into-canada-2025/
CATEGORIES:Other
ATTACH;FMTTYPE=image/jpeg:https://clebc.wpenginepowered.com/wp-content/uploads/2025/04/2288-Working-Your-Way-into-Canada_200x200.jpg
END:VEVENT
BEGIN:VEVENT
DTSTART;VALUE=DATE:20251028
DTEND;VALUE=DATE:20251029
DTSTAMP:20260421T060658
CREATED:20250911T175811Z
LAST-MODIFIED:20250911T175811Z
UID:10002021-1761609600-1761695999@www.cle.bc.ca
SUMMARY:Engaging Conflict in the Moment: Using Curiosity to Turn Conflict into Cooperation
DESCRIPTION:
URL:https://www.cle.bc.ca/course/engaging-conflict-in-the-moment-3/
CATEGORIES:Practice Management,Skills
ATTACH;FMTTYPE=image/jpeg:https://clebc.wpenginepowered.com/wp-content/uploads/2025/09/2318-Engaging-Conflict-in-the-Moment-2025_200x200.jpg
END:VEVENT
BEGIN:VEVENT
DTSTART;VALUE=DATE:20251028
DTEND;VALUE=DATE:20251029
DTSTAMP:20260421T060658
CREATED:20250507T222128Z
LAST-MODIFIED:20250507T222128Z
UID:10001991-1761609600-1761695999@www.cle.bc.ca
SUMMARY:Real Estate: Commercial Lending
DESCRIPTION:
URL:https://www.cle.bc.ca/course/real-estate-commercial-lending-2025/
CATEGORIES:Real Estate
ATTACH;FMTTYPE=image/jpeg:https://clebc.wpenginepowered.com/wp-content/uploads/2025/05/2292-Real-Estate-Commercial-Lending-2025-_200x200.jpg
END:VEVENT
BEGIN:VEVENT
DTSTART;VALUE=DATE:20251029
DTEND;VALUE=DATE:20251030
DTSTAMP:20260421T060658
CREATED:20250618T183533Z
LAST-MODIFIED:20251003T222046Z
UID:10002001-1761696000-1761782399@www.cle.bc.ca
SUMMARY:Interim Remedies and Injunctions
DESCRIPTION:
URL:https://www.cle.bc.ca/course/interim-remedies-and-injunctions/
CATEGORIES:Litigation
ATTACH;FMTTYPE=image/jpeg:https://clebc.wpenginepowered.com/wp-content/uploads/2025/06/2301-Interim-Remedies-2025_200x200.jpg
END:VEVENT
BEGIN:VEVENT
DTSTART;VALUE=DATE:20251030
DTEND;VALUE=DATE:20251031
DTSTAMP:20260421T060658
CREATED:20250702T193009Z
LAST-MODIFIED:20250702T193241Z
UID:10002011-1761782400-1761868799@www.cle.bc.ca
SUMMARY:From Conflict to Calm: Dealing with High Conflict Behaviours
DESCRIPTION:
URL:https://www.cle.bc.ca/course/dealing-with-high-conflict-personalities-2025/
CATEGORIES:Dispute Resolution,Skills
ATTACH;FMTTYPE=image/jpeg:https://clebc.wpenginepowered.com/wp-content/uploads/2025/07/2310-Dealing-with-High-Confict-Behaviours_200x200.jpg
END:VEVENT
BEGIN:VEVENT
DTSTART;VALUE=DATE:20251030
DTEND;VALUE=DATE:20251031
DTSTAMP:20260421T060658
CREATED:20250509T170511Z
LAST-MODIFIED:20250509T170511Z
UID:10001990-1761782400-1761868799@www.cle.bc.ca
SUMMARY:Strata Property Update 2025 (IN-PERSON & WEBINAR)
DESCRIPTION:
URL:https://www.cle.bc.ca/course/strata-property-update-2025/
CATEGORIES:Real Estate
ATTACH;FMTTYPE=image/jpeg:https://clebc.wpenginepowered.com/wp-content/uploads/2025/05/2293-Strata-Property-Update-2025_200x200.jpg
END:VEVENT
BEGIN:VEVENT
DTSTART;VALUE=DATE:20251031
DTEND;VALUE=DATE:20251102
DTSTAMP:20260421T060658
CREATED:20250324T184850Z
LAST-MODIFIED:20250926T210148Z
UID:10001977-1761868800-1762041599@www.cle.bc.ca
SUMMARY:Winning Advocacy Skills Workshop 2025 (SOLD OUT)
DESCRIPTION:
URL:https://www.cle.bc.ca/course/winning-advocacy-skills-workshop-2025/
CATEGORIES:Litigation
ATTACH;FMTTYPE=image/jpeg:https://clebc.wpenginepowered.com/wp-content/uploads/2025/03/2281-Winning-Advocacy-2025_200x200.jpg
END:VEVENT
BEGIN:VEVENT
DTSTART;VALUE=DATE:20251103
DTEND;VALUE=DATE:20251106
DTSTAMP:20260421T060658
CREATED:20250220T003926Z
LAST-MODIFIED:20250902T173129Z
UID:10001908-1762128000-1762387199@www.cle.bc.ca
SUMMARY:Family Law Mediation Fundamentals (COURSE FULL)
DESCRIPTION:
URL:https://www.cle.bc.ca/course/family-law-mediation-fundamentals-2025/
CATEGORIES:Dispute Resolution,Family Law
ATTACH;FMTTYPE=image/jpeg:https://clebc.wpenginepowered.com/wp-content/uploads/2024/09/2264-Family-Law-Mediation-Fundamentals-2025_200x200.jpg
END:VEVENT
BEGIN:VEVENT
DTSTART;VALUE=DATE:20251104
DTEND;VALUE=DATE:20251106
DTSTAMP:20260421T060658
CREATED:20250501T153807Z
LAST-MODIFIED:20250501T153807Z
UID:10001988-1762214400-1762387199@www.cle.bc.ca
SUMMARY:Basics of Wills and Estate Planning 2025
DESCRIPTION:
URL:https://www.cle.bc.ca/course/basics-of-wills-and-estate-planning-2025/
CATEGORIES:Wills, Estates & Trusts
ATTACH;FMTTYPE=image/jpeg:https://clebc.wpenginepowered.com/wp-content/uploads/2025/04/2290-Basics-and-Will-and-Estate-Planning-2025_300x300.jpg
END:VEVENT
BEGIN:VEVENT
DTSTART;VALUE=DATE:20251106
DTEND;VALUE=DATE:20251107
DTSTAMP:20260421T060658
CREATED:20250212T172731Z
LAST-MODIFIED:20250212T172731Z
UID:10001954-1762387200-1762473599@www.cle.bc.ca
SUMMARY:Human Rights Law Conference 2025: Day 1 (IN-PERSON & WEBINAR)
DESCRIPTION:
URL:https://www.cle.bc.ca/course/human-rights-law-conference-2025-day-1/
CATEGORIES:Other
ATTACH;FMTTYPE=image/jpeg:https://clebc.wpenginepowered.com/wp-content/uploads/2025/02/2257-Human-Rights-Law-Conference-2025_200x200.jpg
END:VEVENT
BEGIN:VEVENT
DTSTART;VALUE=DATE:20251106
DTEND;VALUE=DATE:20251108
DTSTAMP:20260421T060658
CREATED:20250212T172422Z
LAST-MODIFIED:20250212T172422Z
UID:10001955-1762387200-1762559999@www.cle.bc.ca
SUMMARY:Human Rights Law Conference 2025 (IN-PERSON & WEBINAR)
DESCRIPTION:
URL:https://www.cle.bc.ca/course/human-rights-law-conference-2025/
CATEGORIES:Other
ATTACH;FMTTYPE=image/jpeg:https://clebc.wpenginepowered.com/wp-content/uploads/2025/02/2257-Human-Rights-Law-Conference-2025_200x200.jpg
END:VEVENT
BEGIN:VEVENT
DTSTART;VALUE=DATE:20251107
DTEND;VALUE=DATE:20251108
DTSTAMP:20260421T060658
CREATED:20250212T172920Z
LAST-MODIFIED:20250212T172920Z
UID:10001953-1762473600-1762559999@www.cle.bc.ca
SUMMARY:Human Rights Law Conference 2025: Day 2 (IN-PERSON & WEBINAR)
DESCRIPTION:
URL:https://www.cle.bc.ca/course/human-rights-law-conference-2025-day-2/
CATEGORIES:Other
ATTACH;FMTTYPE=image/jpeg:https://clebc.wpenginepowered.com/wp-content/uploads/2025/02/2257-Human-Rights-Law-Conference-2025_200x200.jpg
END:VEVENT
BEGIN:VEVENT
DTSTART;VALUE=DATE:20251114
DTEND;VALUE=DATE:20251115
DTSTAMP:20260421T060658
CREATED:20250618T192339Z
LAST-MODIFIED:20250618T192339Z
UID:10002002-1763078400-1763164799@www.cle.bc.ca
SUMMARY:Personal Injury Conference 2025
DESCRIPTION:
URL:https://www.cle.bc.ca/course/personal-injury-conference-2025/
CATEGORIES:Other
ATTACH;FMTTYPE=image/jpeg:https://clebc.wpenginepowered.com/wp-content/uploads/2025/06/2303-Personal-Injury-Conference_200x200.jpg
END:VEVENT
BEGIN:VEVENT
DTSTART;VALUE=DATE:20251114
DTEND;VALUE=DATE:20251115
DTSTAMP:20260421T060658
CREATED:20250317T191944Z
LAST-MODIFIED:20250317T191944Z
UID:10001976-1763078400-1763164799@www.cle.bc.ca
SUMMARY:Administrative Law Conference 2025 (IN-PERSON & WEBINAR)
DESCRIPTION:
URL:https://www.cle.bc.ca/course/administrative-law-conference-2025/
CATEGORIES:Other
ATTACH;FMTTYPE=image/jpeg:https://clebc.wpenginepowered.com/wp-content/uploads/2025/03/2279-Administrative-Law-Conference-2025_200x200.jpg
END:VEVENT
BEGIN:VEVENT
DTSTART;VALUE=DATE:20251117
DTEND;VALUE=DATE:20251118
DTSTAMP:20260421T060658
CREATED:20250619T153531Z
LAST-MODIFIED:20250619T153531Z
UID:10002003-1763337600-1763423999@www.cle.bc.ca
SUMMARY:Insurance Law Conference 2025
DESCRIPTION:
URL:https://www.cle.bc.ca/course/insurance-law-conference-2025/
CATEGORIES:Other
ATTACH;FMTTYPE=image/jpeg:https://clebc.wpenginepowered.com/wp-content/uploads/2025/06/2304-Insurance-Law-Conference-200x200-1.jpg
END:VEVENT
END:VCALENDAR