BEGIN:VCALENDAR
VERSION:2.0
PRODID:-//The Continuing Legal Education Society of British Columbia - ECPv6.15.20//NONSGML v1.0//EN
CALSCALE:GREGORIAN
METHOD:PUBLISH
X-WR-CALNAME:The Continuing Legal Education Society of British Columbia
X-ORIGINAL-URL:https://www.cle.bc.ca
X-WR-CALDESC:Events for The Continuing Legal Education Society of British Columbia
REFRESH-INTERVAL;VALUE=DURATION:PT1H
X-Robots-Tag:noindex
X-PUBLISHED-TTL:PT1H
BEGIN:VTIMEZONE
TZID:America/Vancouver
BEGIN:DAYLIGHT
TZOFFSETFROM:-0800
TZOFFSETTO:-0700
TZNAME:PDT
DTSTART:20230312T100000
END:DAYLIGHT
BEGIN:STANDARD
TZOFFSETFROM:-0700
TZOFFSETTO:-0800
TZNAME:PST
DTSTART:20231105T090000
END:STANDARD
BEGIN:DAYLIGHT
TZOFFSETFROM:-0800
TZOFFSETTO:-0700
TZNAME:PDT
DTSTART:20240310T100000
END:DAYLIGHT
BEGIN:STANDARD
TZOFFSETFROM:-0700
TZOFFSETTO:-0800
TZNAME:PST
DTSTART:20241103T090000
END:STANDARD
BEGIN:DAYLIGHT
TZOFFSETFROM:-0800
TZOFFSETTO:-0700
TZNAME:PDT
DTSTART:20250309T100000
END:DAYLIGHT
BEGIN:STANDARD
TZOFFSETFROM:-0700
TZOFFSETTO:-0800
TZNAME:PST
DTSTART:20251102T090000
END:STANDARD
END:VTIMEZONE
BEGIN:VTIMEZONE
TZID:America/Denver
BEGIN:DAYLIGHT
TZOFFSETFROM:-0700
TZOFFSETTO:-0600
TZNAME:MDT
DTSTART:20230312T090000
END:DAYLIGHT
BEGIN:STANDARD
TZOFFSETFROM:-0600
TZOFFSETTO:-0700
TZNAME:MST
DTSTART:20231105T080000
END:STANDARD
BEGIN:DAYLIGHT
TZOFFSETFROM:-0700
TZOFFSETTO:-0600
TZNAME:MDT
DTSTART:20240310T090000
END:DAYLIGHT
BEGIN:STANDARD
TZOFFSETFROM:-0600
TZOFFSETTO:-0700
TZNAME:MST
DTSTART:20241103T080000
END:STANDARD
BEGIN:DAYLIGHT
TZOFFSETFROM:-0700
TZOFFSETTO:-0600
TZNAME:MDT
DTSTART:20250309T090000
END:DAYLIGHT
BEGIN:STANDARD
TZOFFSETFROM:-0600
TZOFFSETTO:-0700
TZNAME:MST
DTSTART:20251102T080000
END:STANDARD
END:VTIMEZONE
BEGIN:VEVENT
DTSTART;VALUE=DATE:20240502
DTEND;VALUE=DATE:20240503
DTSTAMP:20260420T044457
CREATED:20240226T193845Z
LAST-MODIFIED:20240226T193925Z
UID:10001831-1714608000-1714694399@www.cle.bc.ca
SUMMARY:Employment Law Conference 2024: Day 1 (IN-PERSON & WEBINAR)
DESCRIPTION:
URL:https://www.cle.bc.ca/course/employment-law-conference-2024-day-1/
CATEGORIES:Other
ATTACH;FMTTYPE=image/jpeg:https://clebc.wpenginepowered.com/wp-content/uploads/2024/02/2147-employment-law-conference-2024_200x200.jpg
END:VEVENT
BEGIN:VEVENT
DTSTART;VALUE=DATE:20240502
DTEND;VALUE=DATE:20240504
DTSTAMP:20260420T044457
CREATED:20240226T193712Z
LAST-MODIFIED:20240226T193712Z
UID:10001830-1714608000-1714780799@www.cle.bc.ca
SUMMARY:Employment Law Conference 2024 (IN-PERSON & WEBINAR)
DESCRIPTION:
URL:https://www.cle.bc.ca/course/employment-law-conference-2024/
CATEGORIES:Other
ATTACH;FMTTYPE=image/jpeg:https://clebc.wpenginepowered.com/wp-content/uploads/2024/02/2147-employment-law-conference-2024_200x200.jpg
END:VEVENT
BEGIN:VEVENT
DTSTART;VALUE=DATE:20240503
DTEND;VALUE=DATE:20240504
DTSTAMP:20260420T044457
CREATED:20240226T194130Z
LAST-MODIFIED:20240226T194158Z
UID:10001832-1714694400-1714780799@www.cle.bc.ca
SUMMARY:Employment Law Conference 2024: Day 2 (IN-PERSON & WEBINAR)
DESCRIPTION:
URL:https://www.cle.bc.ca/course/employment-law-conference-2024-day-2/
CATEGORIES:Other
ATTACH;FMTTYPE=image/jpeg:https://clebc.wpenginepowered.com/wp-content/uploads/2024/02/2147-employment-law-conference-2024_200x200.jpg
END:VEVENT
BEGIN:VEVENT
DTSTART;VALUE=DATE:20240507
DTEND;VALUE=DATE:20240508
DTSTAMP:20260420T044457
CREATED:20240312T182959Z
LAST-MODIFIED:20240312T182959Z
UID:10001848-1715040000-1715126399@www.cle.bc.ca
SUMMARY:Indigenous Real Estate
DESCRIPTION:
URL:https://www.cle.bc.ca/course/indigenous-real-estate-2024/
CATEGORIES:Real Estate
ATTACH;FMTTYPE=image/jpeg:https://clebc.wpenginepowered.com/wp-content/uploads/2024/03/2160-indigenous-real-estate-2024_200x200.jpg
END:VEVENT
BEGIN:VEVENT
DTSTART;TZID=America/Denver:20240508T123000
DTEND;TZID=America/Denver:20240508T140000
DTSTAMP:20260420T044457
CREATED:20240207T200600Z
LAST-MODIFIED:20240424T180931Z
UID:10001824-1715171400-1715176800@www.cle.bc.ca
SUMMARY:Career Navigation for Lawyers
DESCRIPTION:
URL:https://www.cle.bc.ca/course/career-navigation-for-lawyers/
CATEGORIES:Practice Management
ATTACH;FMTTYPE=image/jpeg:https://clebc.wpenginepowered.com/wp-content/uploads/2024/02/2174-career-navigation-for-lawyers_200x200.jpg
END:VEVENT
BEGIN:VEVENT
DTSTART;VALUE=DATE:20240509
DTEND;VALUE=DATE:20240510
DTSTAMP:20260420T044457
CREATED:20231012T223638Z
LAST-MODIFIED:20231012T223845Z
UID:10001794-1715212800-1715299199@www.cle.bc.ca
SUMMARY:Fundamentals of Judicial Review 2024 (IN-PERSON & WEBINAR)
DESCRIPTION:
URL:https://www.cle.bc.ca/course/fundamentals-of-judicial-review-2024/
CATEGORIES:Other
ATTACH;FMTTYPE=image/jpeg:https://clebc.wpenginepowered.com/wp-content/uploads/2023/10/2115-fundamentals-of-judicial-review-2024_200x200.jpg
END:VEVENT
BEGIN:VEVENT
DTSTART;TZID=America/Denver:20240509T090000
DTEND;TZID=America/Denver:20240509T123000
DTSTAMP:20260420T044457
CREATED:20240226T202105Z
LAST-MODIFIED:20240226T202105Z
UID:10001834-1715245200-1715257800@www.cle.bc.ca
SUMMARY:Advanced Securities 2024: Day 1
DESCRIPTION:
URL:https://www.cle.bc.ca/course/advanced-securities-2024-day-1/
CATEGORIES:Business Law,Litigation
ATTACH;FMTTYPE=image/jpeg:https://clebc.wpenginepowered.com/wp-content/uploads/2024/02/2150-advanced-securities-2024_200x200.jpg
END:VEVENT
BEGIN:VEVENT
DTSTART;VALUE=DATE:20240510
DTEND;VALUE=DATE:20240511
DTSTAMP:20260420T044457
CREATED:20240215T164354Z
LAST-MODIFIED:20240215T164717Z
UID:10001826-1715299200-1715385599@www.cle.bc.ca
SUMMARY:Family Law Basics for Paralegals and Legal Support Staff
DESCRIPTION:
URL:https://www.cle.bc.ca/course/family-law-basics-for-paralegals-and-legal-support-staff-2024/
CATEGORIES:Family Law
ATTACH;FMTTYPE=image/jpeg:https://clebc.wpenginepowered.com/wp-content/uploads/2024/02/2140-family-law-basics-for-paralegas-and-lss_200x200.jpg
END:VEVENT
BEGIN:VEVENT
DTSTART;VALUE=DATE:20240510
DTEND;VALUE=DATE:20240511
DTSTAMP:20260420T044457
CREATED:20240227T203353Z
LAST-MODIFIED:20240227T203353Z
UID:10001840-1715299200-1715385599@www.cle.bc.ca
SUMMARY:Torts Update
DESCRIPTION:
URL:https://www.cle.bc.ca/course/torts-update-2024/
CATEGORIES:Litigation
ATTACH;FMTTYPE=image/jpeg:https://clebc.wpenginepowered.com/wp-content/uploads/2024/02/2156-torts-update-2024_200x200.jpg
END:VEVENT
BEGIN:VEVENT
DTSTART;VALUE=DATE:20240513
DTEND;VALUE=DATE:20240515
DTSTAMP:20260420T044457
CREATED:20231010T224707Z
LAST-MODIFIED:20240130T183549Z
UID:10001793-1715558400-1715731199@www.cle.bc.ca
SUMMARY:Death is Not the End: Estate Administration Workshop - Session 2 (IN-PERSON)
DESCRIPTION:
URL:https://www.cle.bc.ca/course/estate-administration-workshop-session-1-2/
CATEGORIES:Wills, Estates & Trusts
ATTACH;FMTTYPE=image/jpeg:https://clebc.wpenginepowered.com/wp-content/uploads/2023/10/2114-death-is-not-the-end-2024_200x200.jpg
END:VEVENT
BEGIN:VEVENT
DTSTART;VALUE=DATE:20240517
DTEND;VALUE=DATE:20240518
DTSTAMP:20260420T044457
CREATED:20240104T192713Z
LAST-MODIFIED:20240429T172842Z
UID:10001817-1715904000-1715990399@www.cle.bc.ca
SUMMARY:Children and Youth Interview Skills Workshop (SOLD OUT)
DESCRIPTION:
URL:https://www.cle.bc.ca/course/children-and-youth-interview-skills-workshop-2024/
CATEGORIES:Family Law
ATTACH;FMTTYPE=image/jpeg:https://clebc.wpenginepowered.com/wp-content/uploads/2024/01/2131-children-and-youth-access-to-justice-conference-2024_200x200.jpg
END:VEVENT
BEGIN:VEVENT
DTSTART;VALUE=DATE:20240522
DTEND;VALUE=DATE:20240523
DTSTAMP:20260420T044457
CREATED:20240118T190128Z
LAST-MODIFIED:20240118T190128Z
UID:10001820-1716336000-1716422399@www.cle.bc.ca
SUMMARY:Engaging Conflict in the Moment: Using Curiosity to Turn Conflict into Cooperation
DESCRIPTION:
URL:https://www.cle.bc.ca/course/engaging-conflict-in-the-moment/
CATEGORIES:Skills
ATTACH;FMTTYPE=image/jpeg:https://clebc.wpenginepowered.com/wp-content/uploads/2024/01/2136-engaging-conflict-in-the-moment-200x200-1.jpg
END:VEVENT
BEGIN:VEVENT
DTSTART;VALUE=DATE:20240522
DTEND;VALUE=DATE:20240523
DTSTAMP:20260420T044457
CREATED:20240214T174746Z
LAST-MODIFIED:20240516T155224Z
UID:10001825-1716336000-1716422399@www.cle.bc.ca
SUMMARY:The Powerful Performance: Effective Advocacy Skills for Lawyers (COURSE FULL)
DESCRIPTION:
URL:https://www.cle.bc.ca/course/the-powerful-performance-2024/
CATEGORIES:Litigation,Skills
ATTACH;FMTTYPE=image/png:https://clebc.wpenginepowered.com/wp-content/uploads/2023/09/2111-powerful-performance.png
END:VEVENT
BEGIN:VEVENT
DTSTART;TZID=America/Denver:20240523T090000
DTEND;TZID=America/Denver:20240523T123000
DTSTAMP:20260420T044457
CREATED:20240226T202427Z
LAST-MODIFIED:20240226T202501Z
UID:10001835-1716454800-1716467400@www.cle.bc.ca
SUMMARY:Advanced Securities 2024: Day 2
DESCRIPTION:
URL:https://www.cle.bc.ca/course/advanced-securities-2024-day-2/
CATEGORIES:Business Law,Litigation
ATTACH;FMTTYPE=image/jpeg:https://clebc.wpenginepowered.com/wp-content/uploads/2024/02/2150-advanced-securities-2024_200x200.jpg
END:VEVENT
BEGIN:VEVENT
DTSTART;VALUE=DATE:20240530
DTEND;VALUE=DATE:20240531
DTSTAMP:20260420T044457
CREATED:20231031T231620Z
LAST-MODIFIED:20240514T203234Z
UID:10001800-1717027200-1717113599@www.cle.bc.ca
SUMMARY:Estate Planning for Blended Families 2024
DESCRIPTION:
URL:https://www.cle.bc.ca/course/estate-planning-for-blended-families-2024/
CATEGORIES:Wills, Estates & Trusts
ATTACH;FMTTYPE=image/jpeg:https://clebc.wpenginepowered.com/wp-content/uploads/2023/10/2119-estate-planning-for-blended-families-2024_200x200.jpg
END:VEVENT
BEGIN:VEVENT
DTSTART;VALUE=DATE:20240530
DTEND;VALUE=DATE:20240601
DTSTAMP:20260420T044457
CREATED:20231004T202815Z
LAST-MODIFIED:20240402T161921Z
UID:10001791-1717027200-1717199999@www.cle.bc.ca
SUMMARY:Family Violence Screening Training for Litigators and DR Professionals (IN-PERSON)
DESCRIPTION:
URL:https://www.cle.bc.ca/course/family-violence-screening-training-for-litigators-and-dr-professionals-2024/
CATEGORIES:Dispute Resolution,Family Law
ATTACH;FMTTYPE=image/jpeg:https://clebc.wpenginepowered.com/wp-content/uploads/2023/04/2075-family-violence-screening-training-2023_200x200.jpg
END:VEVENT
END:VCALENDAR