BEGIN:VCALENDAR
VERSION:2.0
PRODID:-//The Continuing Legal Education Society of British Columbia - ECPv6.15.20//NONSGML v1.0//EN
CALSCALE:GREGORIAN
METHOD:PUBLISH
X-ORIGINAL-URL:https://www.cle.bc.ca
X-WR-CALDESC:Events for The Continuing Legal Education Society of British Columbia
REFRESH-INTERVAL;VALUE=DURATION:PT1H
X-Robots-Tag:noindex
X-PUBLISHED-TTL:PT1H
BEGIN:VTIMEZONE
TZID:America/Denver
BEGIN:DAYLIGHT
TZOFFSETFROM:-0700
TZOFFSETTO:-0600
TZNAME:MDT
DTSTART:20240310T090000
END:DAYLIGHT
BEGIN:STANDARD
TZOFFSETFROM:-0600
TZOFFSETTO:-0700
TZNAME:MST
DTSTART:20241103T080000
END:STANDARD
BEGIN:DAYLIGHT
TZOFFSETFROM:-0700
TZOFFSETTO:-0600
TZNAME:MDT
DTSTART:20250309T090000
END:DAYLIGHT
BEGIN:STANDARD
TZOFFSETFROM:-0600
TZOFFSETTO:-0700
TZNAME:MST
DTSTART:20251102T080000
END:STANDARD
BEGIN:DAYLIGHT
TZOFFSETFROM:-0700
TZOFFSETTO:-0600
TZNAME:MDT
DTSTART:20260308T090000
END:DAYLIGHT
BEGIN:STANDARD
TZOFFSETFROM:-0600
TZOFFSETTO:-0700
TZNAME:MST
DTSTART:20261101T080000
END:STANDARD
END:VTIMEZONE
BEGIN:VTIMEZONE
TZID:America/Vancouver
BEGIN:DAYLIGHT
TZOFFSETFROM:-0800
TZOFFSETTO:-0700
TZNAME:PDT
DTSTART:20240310T100000
END:DAYLIGHT
BEGIN:STANDARD
TZOFFSETFROM:-0700
TZOFFSETTO:-0800
TZNAME:PST
DTSTART:20241103T090000
END:STANDARD
BEGIN:DAYLIGHT
TZOFFSETFROM:-0800
TZOFFSETTO:-0700
TZNAME:PDT
DTSTART:20250309T100000
END:DAYLIGHT
BEGIN:STANDARD
TZOFFSETFROM:-0700
TZOFFSETTO:-0800
TZNAME:PST
DTSTART:20251102T090000
END:STANDARD
BEGIN:DAYLIGHT
TZOFFSETFROM:-0800
TZOFFSETTO:-0700
TZNAME:PDT
DTSTART:20260308T100000
END:DAYLIGHT
BEGIN:STANDARD
TZOFFSETFROM:-0700
TZOFFSETTO:-0800
TZNAME:PST
DTSTART:20261101T090000
END:STANDARD
END:VTIMEZONE
BEGIN:VEVENT
DTSTART;TZID=America/Denver:20250205T163000
DTEND;TZID=America/Denver:20250205T180000
DTSTAMP:20260423T030648
CREATED:20241216T173557Z
LAST-MODIFIED:20250115T010446Z
UID:10001940-1738773000-1738778400@www.cle.bc.ca
SUMMARY:Free Webinar! Access to Justice in the AI Era: Innovation vs. Risk
DESCRIPTION:
URL:https://www.cle.bc.ca/course/finding-justice-challenges-and-opportunities-2/
CATEGORIES:Other
ATTACH;FMTTYPE=image/jpeg:https://clebc.wpenginepowered.com/wp-content/uploads/2024/12/A2JWeekBC_2025_650x200_button-CROP.jpg
END:VEVENT
BEGIN:VEVENT
DTSTART;TZID=America/Vancouver:20250207T120000
DTEND;TZID=America/Vancouver:20250207T131500
DTSTAMP:20260423T030648
CREATED:20241126T191800Z
LAST-MODIFIED:20241126T191800Z
UID:10001925-1738929600-1738934100@www.cle.bc.ca
SUMMARY:Free Webinar! Neurodiversity 101
DESCRIPTION:
URL:https://www.cle.bc.ca/course/neurodiversity-101/
CATEGORIES:Practice Management
ATTACH;FMTTYPE=image/jpeg:https://clebc.wpenginepowered.com/wp-content/uploads/2024/11/2232-neurodiversity-101_200x200.jpg
END:VEVENT
BEGIN:VEVENT
DTSTART;TZID=America/Denver:20250211T090000
DTEND;TZID=America/Denver:20250211T123000
DTSTAMP:20260423T030648
CREATED:20250106T224451Z
LAST-MODIFIED:20250106T224451Z
UID:10001942-1739264400-1739277000@www.cle.bc.ca
SUMMARY:Implementing Innovation I: Technology and Billing Models
DESCRIPTION:
URL:https://www.cle.bc.ca/course/implementing-innovation-i-technology-and-billing-models-2025/
CATEGORIES:Practice Management
ATTACH;FMTTYPE=image/jpeg:https://clebc.wpenginepowered.com/wp-content/uploads/2025/01/2244-technology-and-billing-models_200x200.jpg
END:VEVENT
BEGIN:VEVENT
DTSTART;VALUE=DATE:20250224
DTEND;VALUE=DATE:20250225
DTSTAMP:20260423T030648
CREATED:20240711T203146Z
LAST-MODIFIED:20241216T174621Z
UID:10001899-1740355200-1740441599@www.cle.bc.ca
SUMMARY:Robert’s Rules and Responsible Governance (COURSE FULL)
DESCRIPTION:
URL:https://www.cle.bc.ca/course/roberts-rules-of-order-demystified-2024-3-2/
CATEGORIES:Skills
ATTACH;FMTTYPE=image/jpeg:https://clebc.wpenginepowered.com/wp-content/uploads/2021/10/1903-roberts-rules-of-order-2022-200.jpg
END:VEVENT
BEGIN:VEVENT
DTSTART;TZID=America/Vancouver:20250225T120000
DTEND;TZID=America/Vancouver:20250225T130000
DTSTAMP:20260423T030648
CREATED:20250128T191752Z
LAST-MODIFIED:20250128T191752Z
UID:10001947-1740484800-1740488400@www.cle.bc.ca
SUMMARY:StandUP to Sexual Harassment in the Legal Profession
DESCRIPTION:
URL:https://www.cle.bc.ca/course/standup-to-sexual-harassment-in-the-legal-profession-2/
CATEGORIES:Practice Management,Skills
ATTACH;FMTTYPE=image/jpeg:https://clebc.wpenginepowered.com/wp-content/uploads/2024/06/2197-standUP-to-sexual-harassment-2024_200x200.jpg
END:VEVENT
END:VCALENDAR