BEGIN:VCALENDAR
VERSION:2.0
PRODID:-//The Continuing Legal Education Society of British Columbia - ECPv6.15.20//NONSGML v1.0//EN
CALSCALE:GREGORIAN
METHOD:PUBLISH
X-ORIGINAL-URL:https://www.cle.bc.ca
X-WR-CALDESC:Events for The Continuing Legal Education Society of British Columbia
REFRESH-INTERVAL;VALUE=DURATION:PT1H
X-Robots-Tag:noindex
X-PUBLISHED-TTL:PT1H
BEGIN:VTIMEZONE
TZID:America/Vancouver
BEGIN:DAYLIGHT
TZOFFSETFROM:-0800
TZOFFSETTO:-0700
TZNAME:PDT
DTSTART:20250309T100000
END:DAYLIGHT
BEGIN:STANDARD
TZOFFSETFROM:-0700
TZOFFSETTO:-0800
TZNAME:PST
DTSTART:20251102T090000
END:STANDARD
BEGIN:DAYLIGHT
TZOFFSETFROM:-0800
TZOFFSETTO:-0700
TZNAME:PDT
DTSTART:20260308T100000
END:DAYLIGHT
BEGIN:STANDARD
TZOFFSETFROM:-0700
TZOFFSETTO:-0800
TZNAME:PST
DTSTART:20261101T090000
END:STANDARD
BEGIN:DAYLIGHT
TZOFFSETFROM:-0800
TZOFFSETTO:-0700
TZNAME:PDT
DTSTART:20270314T100000
END:DAYLIGHT
BEGIN:STANDARD
TZOFFSETFROM:-0700
TZOFFSETTO:-0800
TZNAME:PST
DTSTART:20271107T090000
END:STANDARD
END:VTIMEZONE
BEGIN:VTIMEZONE
TZID:America/Denver
BEGIN:DAYLIGHT
TZOFFSETFROM:-0700
TZOFFSETTO:-0600
TZNAME:MDT
DTSTART:20250309T090000
END:DAYLIGHT
BEGIN:STANDARD
TZOFFSETFROM:-0600
TZOFFSETTO:-0700
TZNAME:MST
DTSTART:20251102T080000
END:STANDARD
BEGIN:DAYLIGHT
TZOFFSETFROM:-0700
TZOFFSETTO:-0600
TZNAME:MDT
DTSTART:20260308T090000
END:DAYLIGHT
BEGIN:STANDARD
TZOFFSETFROM:-0600
TZOFFSETTO:-0700
TZNAME:MST
DTSTART:20261101T080000
END:STANDARD
BEGIN:DAYLIGHT
TZOFFSETFROM:-0700
TZOFFSETTO:-0600
TZNAME:MDT
DTSTART:20270314T090000
END:DAYLIGHT
BEGIN:STANDARD
TZOFFSETFROM:-0600
TZOFFSETTO:-0700
TZNAME:MST
DTSTART:20271107T080000
END:STANDARD
END:VTIMEZONE
BEGIN:VEVENT
DTSTART;TZID=America/Vancouver:20261006T120000
DTEND;TZID=America/Vancouver:20261006T130000
DTSTAMP:20260424T032308
CREATED:20260209T183017Z
LAST-MODIFIED:20260421T152611Z
UID:10002067-1791288000-1791291600@www.cle.bc.ca
SUMMARY:StandUP to Sexual Harassment in the Legal Profession
DESCRIPTION:
URL:https://www.cle.bc.ca/course/standup-to-sexual-harassment-in-the-legal-profession-2026/
CATEGORIES:Practice Management,Skills
ATTACH;FMTTYPE=image/jpeg:https://clebc.wpenginepowered.com/wp-content/uploads/2026/02/2359-Standup-to-Sexual-Harassment-2026_200x200.jpg
END:VEVENT
BEGIN:VEVENT
DTSTART;VALUE=DATE:20261016
DTEND;VALUE=DATE:20261017
DTSTAMP:20260424T032308
CREATED:20260421T162825Z
LAST-MODIFIED:20260421T162825Z
UID:10002086-1792108800-1792195199@www.cle.bc.ca
SUMMARY:Western Canada Class Actions Conference 2026 (IN-PERSON & WEBINAR)
DESCRIPTION:
URL:https://www.cle.bc.ca/course/western-canada-class-actions-conference-2026/
CATEGORIES:Business Law,Litigation
ATTACH;FMTTYPE=image/jpeg:https://clebc.wpenginepowered.com/wp-content/uploads/2026/04/2377-Western-Canada-Class-Actions-Conference-2026_200x200.jpg
END:VEVENT
BEGIN:VEVENT
DTSTART;VALUE=DATE:20261021
DTEND;VALUE=DATE:20261022
DTSTAMP:20260424T032308
CREATED:20251127T201447Z
LAST-MODIFIED:20251127T201447Z
UID:10002043-1792540800-1792627199@www.cle.bc.ca
SUMMARY:Labour Relations (IN-PERSON & WEBINAR)
DESCRIPTION:
URL:https://www.cle.bc.ca/course/labour-relations-2026/
CATEGORIES:Other
ATTACH;FMTTYPE=image/jpeg:https://clebc.wpenginepowered.com/wp-content/uploads/2025/11/2338-Labour-Relations-2026_200x200.jpg
END:VEVENT
BEGIN:VEVENT
DTSTART;VALUE=DATE:20261022
DTEND;VALUE=DATE:20261024
DTSTAMP:20260424T032308
CREATED:20260115T195528Z
LAST-MODIFIED:20260115T195528Z
UID:10002056-1792627200-1792799999@www.cle.bc.ca
SUMMARY:Family Violence Screening Training for Litigators and DR Professionals
DESCRIPTION:
URL:https://www.cle.bc.ca/course/family-violence-screening-training-for-litigators-and-dr-professionals-2026-2/
CATEGORIES:Dispute Resolution,Family Law
ATTACH;FMTTYPE=image/jpeg:https://clebc.wpenginepowered.com/wp-content/uploads/2025/02/2263-Family-Violence-Screening-Training-2025_200x200.jpg
END:VEVENT
END:VCALENDAR